BEGIN:VCALENDAR
VERSION:2.0
PRODID:-//Agenda du Perche//Agenda du Perche//FR
CALSCALE:GREGORIAN
METHOD:PUBLISH
X-WR-CALNAME:Agenda du Perche
X-WR-DESC:Événements du territoire du Perche
X-WR-TIMEZONE:Europe/Paris
BEGIN:VEVENT
UID:1436@agendaperche
DTSTAMP:20260423T133657
DTSTART:20260504T180000
DTEND:20260504T200000
SUMMARY:Atelier d'écriture : Lumière des beaux jours
DESCRIPTION:Plus d'infos : https://www.agendaduperche.fr/events/2026-05-04-atelier-d-ecriture-lumiere-des-beaux-jours\n\nBrigitte Hynderick, biographe, anime un atelier d'écriture sur le thème « Lumière des beaux jours ». Nul besoin de pré-requis, venez tricoter avec les mots et jouer en groupe dans une ambiance bienveillante.\nL'atelier sera suivi d'un dîner partagé (chacun apporte un plat). Boissons sans alcool offertes par l'association Moulin de Radray, nature & patrimoine.\nInfos & réservations :\nInscription obligatoire : contact@lemoulinderadray.fr
LOCATION:Le Moulin de Radray, 61400 Loisail, France
ORGANIZER:Association Moulin de Radray, nature & patrimoine
X-PRICE:20€
CATEGORIES:atelier
END:VEVENT
END:VCALENDAR