BEGIN:VCALENDAR
VERSION:2.0
PRODID:-//Agenda du Perche//Agenda du Perche//FR
CALSCALE:GREGORIAN
METHOD:PUBLISH
X-WR-CALNAME:Agenda du Perche
X-WR-DESC:Événements du territoire du Perche
X-WR-TIMEZONE:Europe/Paris
BEGIN:VEVENT
UID:1453@agendaperche
DTSTAMP:20260423T151414
DTSTART:20260502T160000
DTEND:20260502T180000
SUMMARY:Rencontre et dédicace avec Géraldine Lemaître Renault
DESCRIPTION:Plus d'infos : https://www.agendaduperche.fr/events/2026-05-02-rencontre-et-dedicace-avec-geraldine-lemaitre-renault\n\nGéraldine Lemaître Renault vient présenter et dédicacer son dernier roman, "Le goût des forêts", publié aux éditions Maison Pop.
LOCATION:8 Pl. du Général de Gaulle, 61110 Rémalard en Perche, France
ORGANIZER:Librairie Un autre pays
URL:https://www.instagram.com/p/DXcMojXDOGk/
X-PRICE:Inconnu
CATEGORIES:conference
END:VEVENT
END:VCALENDAR