BEGIN:VCALENDAR
VERSION:2.0
PRODID:-//Agenda du Perche//Agenda du Perche//FR
CALSCALE:GREGORIAN
METHOD:PUBLISH
X-WR-CALNAME:Agenda du Perche
X-WR-DESC:Événements du territoire du Perche
X-WR-TIMEZONE:Europe/Paris
BEGIN:VEVENT
UID:1421@agendaperche
DTSTAMP:20260419T172753
DTSTART:20260502T100000
DTEND:20260503T180000
SUMMARY:Marché de producteurs et artisans locaux
DESCRIPTION:Plus d'infos : https://www.agendaduperche.fr/events/2026-05-02-marche-de-producteurs-et-artisans-locaux\n\nLa Maison La Chatelière vous accueille pour un marché mettant à l'honneur les talents du Perche.\nAu programme :\n* Marché de producteurs locaux\n* Artisans d'art et créateurs\n* Restauration sur place\nL'occasion de découvrir ce jardin vivant et de rencontrer ceux qui font vivre le territoire.
LOCATION:28480 Thiron-Gardais, France
ORGANIZER:Maison La Chatelière
URL:https://www.instagram.com/p/DXOpOUIiBZF/
X-PRICE:Inconnu
CATEGORIES:marche
END:VEVENT
END:VCALENDAR