BEGIN:VCALENDAR
VERSION:2.0
PRODID:-//Agenda du Perche//Agenda du Perche//FR
CALSCALE:GREGORIAN
METHOD:PUBLISH
X-WR-CALNAME:Agenda du Perche
X-WR-DESC:Événements du territoire du Perche
X-WR-TIMEZONE:Europe/Paris
BEGIN:VEVENT
UID:1390@agendaperche
DTSTAMP:20260419T172752
DTSTART:20260502T090000
DTEND:20260502T173000
SUMMARY:Initiation à la menuiserie : la petite étagère d'Hubert
DESCRIPTION:Plus d'infos : https://www.agendaduperche.fr/events/2026-05-02-initiation-a-la-menuiserie-la-petite-etagere-d-hubert\n\nApprenez les bases du travail du bois massif en une journée. Hubert, menuisier de métier, vous transmettra son savoir-faire à travers la fabrication d'une petite étagère.\nProgramme :\n* Débiter et corroyer le bois (dégauchisseuse, raboteuse)\n* Tracer les assemblages\n* Utiliser scie à main, ciseau à bois et défonceuse\n* Chantourner, poncer et assembler\nInfos & réservations :\n* Inscription obligatoire avant le 29 avril 12h\n* Paiement à l'inscription\n* Adhésion annuelle à l'association (5€) requise\n* Contact : laboiteaoutils28@gmail.com
LOCATION:111 Rue Bretonnerie, 28400 Nogent-le-Rotrou, France
ORGANIZER:La Boite à Outils
URL:https://lbao.fr
X-PRICE:110€
CATEGORIES:atelier
END:VEVENT
END:VCALENDAR