BEGIN:VCALENDAR
VERSION:2.0
PRODID:-//Agenda du Perche//Agenda du Perche//FR
CALSCALE:GREGORIAN
METHOD:PUBLISH
X-WR-CALNAME:Agenda du Perche
X-WR-DESC:Événements du territoire du Perche
X-WR-TIMEZONE:Europe/Paris
BEGIN:VEVENT
UID:1452@agendaperche
DTSTAMP:20260423T151559
DTSTART:20260502T150000
DTEND:20260502T160000
SUMMARY:Balade plantes sauvages
DESCRIPTION:Plus d'infos : https://www.agendaduperche.fr/events/2026-05-02-balade-plantes-sauvages\n\nGéraldine Lemaître Renault vous propose une balade à la découverte des plantes sauvages au départ de la librairie.\nInfos & réservations :\n* Places limitées\n* Réservation demandée auprès de la librairie
LOCATION:8 Pl. du Général de Gaulle, 61110 Rémalard en Perche, France
ORGANIZER:Librairie Un autre pays
URL:https://www.instagram.com/p/DXcMojXDOGk/
X-PRICE:Inconnu
CATEGORIES:nature
END:VEVENT
END:VCALENDAR