BEGIN:VCALENDAR
VERSION:2.0
PRODID:-//Agenda du Perche//Agenda du Perche//FR
CALSCALE:GREGORIAN
METHOD:PUBLISH
X-WR-CALNAME:Agenda du Perche
X-WR-DESC:Événements du territoire du Perche
X-WR-TIMEZONE:Europe/Paris
BEGIN:VEVENT
UID:1382@agendaperche
DTSTAMP:20260419T172528
DTSTART:20260501T200000
DTEND:20260501T220000
SUMMARY:Véronika Bulycheva
DESCRIPTION:Plus d'infos : https://www.agendaduperche.fr/events/2026-05-01-veronika-bulycheva\n\nSoirée concert avec Véronika Bulycheva, chanteuse russe résidant à Paris, reconnue pour sa voix ensorcelante. Elle sera accompagnée par l'artiste Benoît Rassouw pour une performance musicale au cœur du parc du Moulin de Radray.\nCet événement est ouvert à tous, que vous participiez ou non aux séances de banya.
LOCATION:Le Moulin de Radray, 61400 Loisail, France
ORGANIZER:Le moulin de Radray, nature & patrimoine
X-PRICE:Inconnu
CATEGORIES:concert
END:VEVENT
END:VCALENDAR