BEGIN:VCALENDAR
VERSION:2.0
PRODID:-//Agenda du Perche//Agenda du Perche//FR
CALSCALE:GREGORIAN
METHOD:PUBLISH
X-WR-CALNAME:Agenda du Perche
X-WR-DESC:Événements du territoire du Perche
X-WR-TIMEZONE:Europe/Paris
BEGIN:VEVENT
UID:1381@agendaperche
DTSTAMP:20260419T172648
DTSTART:20260501T180000
DTEND:20260501T200000
SUMMARY:Pizza party au Moulin
DESCRIPTION:Plus d'infos : https://www.agendaduperche.fr/events/2026-05-01-pizza-party-au-moulin\n\nÀ l'occasion de l'ouverture de la saison au Moulin de Radray, profitez d'une soirée conviviale autour du four à pain historique. Des pizzas artisanales seront confectionnées avec des produits locaux :\n* Farine de la Ferme du Chailloué\n* Bières de la Vertueuse\n* Produits du Gaëc de l'Etoile\nUne occasion idéale pour découvrir les saveurs du terroir dans un cadre patrimonial unique.
LOCATION:Le Moulin de Radray, 61400 Loisail, France
ORGANIZER:Le moulin de Radray, nature & patrimoine
X-PRICE:Inconnu
CATEGORIES:gastronomie
END:VEVENT
END:VCALENDAR