BEGIN:VCALENDAR
VERSION:2.0
PRODID:-//Agenda du Perche//Agenda du Perche//FR
CALSCALE:GREGORIAN
METHOD:PUBLISH
X-WR-CALNAME:Agenda du Perche
X-WR-DESC:Événements du territoire du Perche
X-WR-TIMEZONE:Europe/Paris
BEGIN:VEVENT
UID:1418@agendaperche
DTSTAMP:20260419T172429
DTSTART:20260501T193000
DTEND:20260501T223000
SUMMARY:Marc Loy
DESCRIPTION:Plus d'infos : https://www.agendaduperche.fr/events/2026-05-01-marc-loy\n\nVenez profiter d'un concert de rock énergique avec Marc Loy à la Bonne Maison !\nAu programme :\n* Rock énergique\n* Galettes croustillantes\n* Bières du Perche\nInfos & réservations :\n02 33 83 27 17
LOCATION:12 Pl. du Général de Gaulle, 61110 Rémalard en Perche, France
ORGANIZER:Bonne Maison Rémalard
URL:https://www.instagram.com/p/DXOPFYYiNhu/
X-PRICE:Inconnu
CATEGORIES:concert
END:VEVENT
END:VCALENDAR