BEGIN:VCALENDAR
VERSION:2.0
PRODID:-//Agenda du Perche//Agenda du Perche//FR
CALSCALE:GREGORIAN
METHOD:PUBLISH
X-WR-CALNAME:Agenda du Perche
X-WR-DESC:Événements du territoire du Perche
X-WR-TIMEZONE:Europe/Paris
BEGIN:VEVENT
UID:1433@agendaperche
DTSTAMP:20260423T132805
DTSTART:20260501T100000
DTEND:20260614T180000
SUMMARY:Laurent Gapaillard
DESCRIPTION:Plus d'infos : https://www.agendaduperche.fr/events/2026-05-01-laurent-gapaillard\n\nExposition des œuvres de Laurent Gapaillard au café associatif L'Escarbille.\nInfos & contact :\nlescarbille@lecafedecourmaugis.fr
LOCATION:5 Rue du Perche, 61110 Cour-Maugis sur Huisne, France
ORGANIZER:Café associatif L'ESCARBILLE
URL:https://www.lecafedecourmaugis.fr/
X-PRICE:Inconnu
CATEGORIES:exposition
END:VEVENT
END:VCALENDAR