BEGIN:VCALENDAR
VERSION:2.0
PRODID:-//Agenda du Perche//Agenda du Perche//FR
CALSCALE:GREGORIAN
METHOD:PUBLISH
X-WR-CALNAME:Agenda du Perche
X-WR-DESC:Événements du territoire du Perche
X-WR-TIMEZONE:Europe/Paris
BEGIN:VEVENT
UID:1431@agendaperche
DTSTAMP:20260423T133322
DTSTART:20260501T100000
DTEND:20260614T180000
SUMMARY:Laurence Klein
DESCRIPTION:Plus d'infos : https://www.agendaduperche.fr/events/2026-05-01-laurence-klein\n\nExposition de l'artiste Laurence Klein à l'église Saint-Pierre de Mauves-sur-Huisne.\nCet événement s'inscrit dans le cadre de la programmation Parcours Art et Patrimoine en Perche, qui met en lumière la création contemporaine dans des lieux patrimoniaux du Perche.\nDates : Du 1er mai au 14 juin 2026.
LOCATION:Rue Catinat, 61400 Mauves-sur-Huisne, France
ORGANIZER:Parcours Art et Patrimoine en Perche
URL:https://www.instagram.com/p/DXWXRf-lggk/
X-PRICE:Inconnu
CATEGORIES:exposition
END:VEVENT
END:VCALENDAR