BEGIN:VCALENDAR
VERSION:2.0
PRODID:-//Agenda du Perche//Agenda du Perche//FR
CALSCALE:GREGORIAN
METHOD:PUBLISH
X-WR-CALNAME:Agenda du Perche
X-WR-DESC:Événements du territoire du Perche
X-WR-TIMEZONE:Europe/Paris
BEGIN:VEVENT
UID:1380@agendaperche
DTSTAMP:20260419T172505
DTSTART:20260501T150000
DTEND:20260502T150000
SUMMARY:La banya
DESCRIPTION:Plus d'infos : https://www.agendaduperche.fr/events/2026-05-01-la-banya\n\nDécouvrez la banya, un sauna traditionnel à la russe installé dans une roulotte mobile légère, inspirée par une peinture de Vincent Van Gogh. Installée près de la rivière au Moulin de Radray, cette installation permet de profiter de la fraîcheur de l'eau au sortir du bain de vapeur.\nAu programme :\n* Séances de sauna à la russe (capacité de 4 personnes)\n* Chauffage au poêle à bois (pas d'électricité)\n* Massages habillés sous les arbres du parc\n* Bienfaits : renforcement des défenses immunitaires, détente du corps et de l'esprit, élimination des toxines.\nInfos & réservations :\nN'oubliez pas votre maillot de bain. Réservation conseillée au 06 81 76 16 99, par mail à lemoulinderadray@gmail.com ou sur Helloasso (rechercher "banya").
LOCATION:Le Moulin de Radray, 61400 Loisail, France
ORGANIZER:Le moulin de Radray, nature & patrimoine
X-PRICE:10€
CATEGORIES:nature
END:VEVENT
END:VCALENDAR