BEGIN:VCALENDAR
VERSION:2.0
PRODID:-//Agenda du Perche//Agenda du Perche//FR
CALSCALE:GREGORIAN
METHOD:PUBLISH
X-WR-CALNAME:Agenda du Perche
X-WR-DESC:Événements du territoire du Perche
X-WR-TIMEZONE:Europe/Paris
BEGIN:VEVENT
UID:1425@agendaperche
DTSTAMP:20260419T172828
DTSTART:20260501T170000
DTEND:20260501T190000
SUMMARY:Foire aux tripes et Fanfare Les Chilis
DESCRIPTION:Plus d'infos : https://www.agendaduperche.fr/events/2026-05-01-foire-aux-tripes-et-fanfare-les-chilis\n\nTraditionnelle foire aux tripes accompagnée par la musique de la fanfare Les Chilis.\nProgramme :\n* À partir de 17h : Fanfare Les Chilis et dégustation\nInfos & réservations :\n02 14 21 50 06
LOCATION:19 Pl. de L Hôtel de ville, 61290 Longny les Villages, France
ORGANIZER:Cafe du Commerce by Camille Lanez
URL:https://www.instagram.com/p/DXRK7V_DYXK/
X-PRICE:Inconnu
CATEGORIES:gastronomie
END:VEVENT
END:VCALENDAR