BEGIN:VCALENDAR
VERSION:2.0
PRODID:-//Agenda du Perche//Agenda du Perche//FR
CALSCALE:GREGORIAN
METHOD:PUBLISH
X-WR-CALNAME:Agenda du Perche
X-WR-DESC:Événements du territoire du Perche
X-WR-TIMEZONE:Europe/Paris
BEGIN:VEVENT
UID:1383@agendaperche
DTSTAMP:20260419T155204
DTSTART:20260427T183000
DTEND:20260427T203000
SUMMARY:Rénovation énergétique des toitures et combles
DESCRIPTION:Plus d'infos : https://www.agendaduperche.fr/events/2026-04-27-renovation-energetique-des-toitures-et-combles\n\nParticipez à une soirée thématique gratuite dédiée à la rénovation énergétique des toitures et des combles, organisée dans le cadre des Rendez-vous 2026 de l’éco-rénovation. Un rendez-vous utile pour améliorer le confort de votre logement tout en réduisant vos factures d’énergie.\nAu programme :\n* Conseils pratiques sur l’isolation\n* Échanges avec des professionnels\n* Informations sur les aides et solutions existantes\nCette soirée est animée par l’association Eco-Pertica en partenariat avec le Parc naturel régional du Perche.\nInfos & réservations :\n* Téléphone : 02 33 85 36 36 (réservation conseillée)
LOCATION:17 Rue d'Authon, 28400 Souancé-au-Perche, France
ORGANIZER:Association Eco-Pertica & Parc naturel régional du Perche
URL:https://www.instagram.com/p/DXEHs0IDf0F/
X-PRICE:Gratuit
CATEGORIES:conference
END:VEVENT
END:VCALENDAR