BEGIN:VCALENDAR
VERSION:2.0
PRODID:-//Agenda du Perche//Agenda du Perche//FR
CALSCALE:GREGORIAN
METHOD:PUBLISH
X-WR-CALNAME:Agenda du Perche
X-WR-DESC:Événements du territoire du Perche
X-WR-TIMEZONE:Europe/Paris
BEGIN:VEVENT
UID:1359@agendaperche
DTSTAMP:20260419T172727
DTSTART:20260426T170000
DTEND:20260426T190000
SUMMARY:Si Montligeon m'était conté... l'Abbé BUGUET
DESCRIPTION:Plus d'infos : https://www.agendaduperche.fr/events/2026-04-26-si-montligeon-m-etait-conte-l-abbe-buguet\n\nVenez échanger et raconter vos récits autour de l'homme le plus emblématique du village ! Saison 1, épisode 2.\nÉvénement organisé dans le cadre de la saison 2026 du Café de La Chapelle.
LOCATION:61400 La Chapelle-Montligeon, France
ORGANIZER:Café de La Chapelle
X-PRICE:Inconnu
CATEGORIES:conference
END:VEVENT
END:VCALENDAR