BEGIN:VCALENDAR
VERSION:2.0
PRODID:-//Agenda du Perche//Agenda du Perche//FR
CALSCALE:GREGORIAN
METHOD:PUBLISH
X-WR-CALNAME:Agenda du Perche
X-WR-DESC:Événements du territoire du Perche
X-WR-TIMEZONE:Europe/Paris
BEGIN:VEVENT
UID:1377@agendaperche
DTSTAMP:20260419T155417
DTSTART:20260426T100000
DTEND:20260426T180000
SUMMARY:Portes ouvertes de L'agneau Perché et des Pampilles
DESCRIPTION:Plus d'infos : https://www.agendaduperche.fr/events/2026-04-26-portes-ouvertes-de-l-agneau-perche-et-des-pampilles\n\nJournée portes ouvertes pour découvrir l'élevage et les produits locaux de L'agneau Perché et des Pampilles à Béthonvilliers. La microbrasserie La Baz' sera présente sur place.
LOCATION:28330 Béthonvilliers, France
ORGANIZER:L'agneau Perché et les Pampilles
URL:https://www.instagram.com/p/DW9SkkcjW3G/
X-PRICE:Gratuit
CATEGORIES:visite
END:VEVENT
END:VCALENDAR