BEGIN:VCALENDAR
VERSION:2.0
PRODID:-//Agenda du Perche//Agenda du Perche//FR
CALSCALE:GREGORIAN
METHOD:PUBLISH
X-WR-CALNAME:Agenda du Perche
X-WR-DESC:Événements du territoire du Perche
X-WR-TIMEZONE:Europe/Paris
BEGIN:VEVENT
UID:1345@agendaperche
DTSTAMP:20260419T141857
DTSTART:20260426T100000
DTEND:20260426T180000
SUMMARY:PAM! - Fête des Plantes Aromatiques et Médicinales du Perche
DESCRIPTION:Plus d'infos : https://www.agendaduperche.fr/events/2026-04-26-pam-fete-des-plantes-aromatiques-et-medicinales-du-perche\n\nLa 3ème édition de la fête PAM! vous accueille pour une journée dédiée aux plantes aromatiques et médicinales au Pin-la-Garenne. Un programme riche pour petits et grands autour du végétal, de la biodiversité et des savoir-faire artisanaux.\nAu programme :\nPour les enfants :\n* 10h30 et 14h : Impression florale solaire (Gratuit)\n* 11h et 15h30 : "Si les plantes m'étaient contées", trois contes poétiques par Noémie Saillenfest (Prix libre, dès 7 ans)\n* 13h30 et 15h : Semis de courgette et haricots par Les Jardins d'Orion (Tarif libre)\n* Toute la journée : Jeux pour enfants par La Rurale (Gratuit)\nAteliers pratiques :\n* 11h, 14h et 16h : Apprendre à composer une tisane avec Olivier Perrier (8€)\n* 15h : "Un jardin de simples, kesako ?" par Jardin de Simples (Gratuit)\n* Toute la journée : Création d'une petite guilde en jardin-forêt par Racines du Perche (Gratuit)\nBalades botaniques :\n* 11h et 15h : Balade ethnobotanique "Petites histoires de plantes" avec Michèle Desgranges (Gratuit, max 15 pers.)\n* 14h : Balade botanique "Les Sauvages de ma Rue" par l'AFFO (Gratuit, max 15 pers.)\nTables rondes et conférences :\n* 13h30 : Découvrir la gemmothérapie avec le Dr Annick Sizun (Gratuit)\n* 14h : Rendez-vous avec la Ronce, échanges et dégustations par Jardin de Simples (Gratuit)\n* 16h : Conférence-échange "Paysans - Herboristes depuis 10 ans" par Jardin Solstice (Gratuit)\n* 16h30 : Conférence contée "Les fibres textiles à travers l'histoire" par Mauricette Girard (Gratuit)\nExpositions et démonstrations :\n* L'usage des simples en cosmétique et savonnerie (Le Champ du Possible)\n* Les plantes qui soignent les plantes (Les Bonnes Herbes d'Ecouves)\n* Démonstration de travail des fibres (chanvre, lin, ortie...) par Mauricette Girard\n* Signature de Géraldine Lemaître Renault pour son ouvrage "Le Goût des Forêts" (Librairie Du Côté de Bellême)\nInfos pratiques :\n* Marché, librairie spécialisée et restauration sur place.\n* Entrée libre.\nInstagram : @pamperche
LOCATION:61400 Le Pin-la-Garenne, France
ORGANIZER:PAM!
X-PRICE:Gratuit
CATEGORIES:festival
END:VEVENT
END:VCALENDAR