BEGIN:VCALENDAR
VERSION:2.0
PRODID:-//Agenda du Perche//Agenda du Perche//FR
CALSCALE:GREGORIAN
METHOD:PUBLISH
X-WR-CALNAME:Agenda du Perche
X-WR-DESC:Événements du territoire du Perche
X-WR-TIMEZONE:Europe/Paris
BEGIN:VEVENT
UID:1435@agendaperche
DTSTAMP:20260423T132652
DTSTART:20260425T100000
DTEND:20260426T170000
SUMMARY:Weekend écorçage : Chantier participatif
DESCRIPTION:Plus d'infos : https://www.agendaduperche.fr/events/2026-04-25-weekend-ecorcage-chantier-participatif\n\nParticipez à la création de la charpente de l'espace de vie ludique ! L'objectif est de retirer l'écorce des troncs de robinier (faux-acacia) pour obtenir des troncs bien lisses et sans échardes.\nInfos pratiques :\n* Horaires : de 10h à 17h le samedi et le dimanche\n* Repas partagé le midi\n* Matériel : si vous avez une bêche ou une plane, n'hésitez pas à l'apporter\n* Participation : vous pouvez venir sur les deux jours ou passer juste une heure
LOCATION:121 Rue du Perche, 61110 Cour-Maugis sur Huisne, France
ORGANIZER:Café associatif L'Escarbille
URL:https://www.lecafedecourmaugis.fr/
X-PRICE:Gratuit
CATEGORIES:atelier
END:VEVENT
END:VCALENDAR