BEGIN:VCALENDAR
VERSION:2.0
PRODID:-//Agenda du Perche//Agenda du Perche//FR
CALSCALE:GREGORIAN
METHOD:PUBLISH
X-WR-CALNAME:Agenda du Perche
X-WR-DESC:Événements du territoire du Perche
X-WR-TIMEZONE:Europe/Paris
BEGIN:VEVENT
UID:1428@agendaperche
DTSTAMP:20260419T142521
DTSTART:20260425T200000
DTEND:20260425T230000
SUMMARY:Thomas Louise - Le sens de la fête tour
DESCRIPTION:Plus d'infos : https://www.agendaduperche.fr/events/2026-04-25-thomas-louise-le-sens-de-la-fete-tour\n\nThomas Louise dévoile son projet « Le sens de la fête » (en trio), un son résolument folk alliant élégance pop et textes à fleur de peau. Porté par les plumes de Souchon, Gauvain Sers ou Albin de la Simone, il dessine des portraits intimes de personnages qui disent les mots(aux) de notre époque.\nInfos pratiques :\n* Petite restauration disponible sur place.
LOCATION:Préaux-du-Perche, 61340 Perche-en-Nocé, France
ORGANIZER:Au Pré À Liens
URL:https://www.instagram.com/p/DXRoTysjCL9/
X-PRICE:Inconnu
CATEGORIES:concert
END:VEVENT
END:VCALENDAR