BEGIN:VCALENDAR
VERSION:2.0
PRODID:-//Agenda du Perche//Agenda du Perche//FR
CALSCALE:GREGORIAN
METHOD:PUBLISH
X-WR-CALNAME:Agenda du Perche
X-WR-DESC:Événements du territoire du Perche
X-WR-TIMEZONE:Europe/Paris
BEGIN:VEVENT
UID:1434@agendaperche
DTSTAMP:20260423T133947
DTSTART:20260425T150000
DTEND:20260425T163000
SUMMARY:Rencontre de fin de concertation : Espace de vie ludique
DESCRIPTION:Plus d'infos : https://www.agendaduperche.fr/events/2026-04-25-rencontre-de-fin-de-concertation-espace-de-vie-ludique\n\nLe constructeur, Maël Lefrançois, viendra présenter l'aboutissement du projet de structure de jeux. Découvrez comment il a réussi à combiner les différents rêves et réalités de tous les publics concernés, de 1 à 99 ans !\nRendez-vous à la salle des assos de Boissy-Maugis, à côté de L'Escarbille.
LOCATION:Boissy-Maugis, 61110 Cour-Maugis-sur-Huisne, France
ORGANIZER:Café associatif L'Escarbille
URL:https://www.lecafedecourmaugis.fr/
X-PRICE:Inconnu
CATEGORIES:conference
END:VEVENT
END:VCALENDAR