BEGIN:VCALENDAR
VERSION:2.0
PRODID:-//Agenda du Perche//Agenda du Perche//FR
CALSCALE:GREGORIAN
METHOD:PUBLISH
X-WR-CALNAME:Agenda du Perche
X-WR-DESC:Événements du territoire du Perche
X-WR-TIMEZONE:Europe/Paris
BEGIN:VEVENT
UID:1423@agendaperche
DTSTAMP:20260419T141619
DTSTART:20260425T163000
DTEND:20260425T173000
SUMMARY:Les banquets des philosophes
DESCRIPTION:Plus d'infos : https://www.agendaduperche.fr/events/2026-04-25-les-banquets-des-philosophes\n\nPhilosophe-t-on mieux le ventre plein ?\nRencontre d'une heure en compagnie d'Anne-Marie Ozanam pour tout savoir sur ces banquets plus ou moins sérieux de l'Antiquité.
LOCATION:22 Rue de l'Église, 61110 Rémalard en Perche, France
ORGANIZER:Le Passage
URL:https://www.instagram.com/p/DXRl_drCLoi/
X-PRICE:Inconnu
CATEGORIES:conference
END:VEVENT
END:VCALENDAR