BEGIN:VCALENDAR
VERSION:2.0
PRODID:-//Agenda du Perche//Agenda du Perche//FR
CALSCALE:GREGORIAN
METHOD:PUBLISH
X-WR-CALNAME:Agenda du Perche
X-WR-DESC:Événements du territoire du Perche
X-WR-TIMEZONE:Europe/Paris
BEGIN:VEVENT
UID:1417@agendaperche
DTSTAMP:20260419T141511
DTSTART:20260425T110000
DTEND:20260425T120000
SUMMARY:Lecture à voix haute
DESCRIPTION:Plus d'infos : https://www.agendaduperche.fr/events/2026-04-25-lecture-a-voix-haute\n\nSéance de lecture à voix haute pour découvrir des textes et partager le plaisir des mots.\nInfos pratiques :\n* Sur inscription auprès de votre libraire.
LOCATION:6 Rue du 17 Juin 1944, 28240 La Loupe, France
ORGANIZER:Librairie-café Le Mille-feuille
URL:https://www.instagram.com/p/DXMmc9qjCcG/
X-PRICE:Gratuit
CATEGORIES:conference
END:VEVENT
END:VCALENDAR