BEGIN:VCALENDAR
VERSION:2.0
PRODID:-//Agenda du Perche//Agenda du Perche//FR
CALSCALE:GREGORIAN
METHOD:PUBLISH
X-WR-CALNAME:Agenda du Perche
X-WR-DESC:Événements du territoire du Perche
X-WR-TIMEZONE:Europe/Paris
BEGIN:VEVENT
UID:1400@agendaperche
DTSTAMP:20260423T121148
DTSTART:20260424T103000
DTEND:20260424T120000
SUMMARY:Collège Royal et Militaire
DESCRIPTION:Plus d'infos : https://www.agendaduperche.fr/events/2026-04-24-college-royal-et-militaire\n\nDelphine, guide conférencière, vous accompagne pour une visite guidée du Collège Royal et Militaire.\nInfos pratiques :\n* Places limitées\n* Réservation obligatoire\nInfos & réservations :\nvisites.percheronnes@gmail.com
LOCATION:12 Rue de l'Abbaye, 28480 Thiron-Gardais, France
ORGANIZER:Visites Percheronnes
URL:https://www.visites-percheronnes.fr
X-PRICE:Inconnu
CATEGORIES:visite
END:VEVENT
END:VCALENDAR