BEGIN:VCALENDAR
VERSION:2.0
PRODID:-//Agenda du Perche//Agenda du Perche//FR
CALSCALE:GREGORIAN
METHOD:PUBLISH
X-WR-CALNAME:Agenda du Perche
X-WR-DESC:Événements du territoire du Perche
X-WR-TIMEZONE:Europe/Paris
BEGIN:VEVENT
UID:1416@agendaperche
DTSTAMP:20260419T141416
DTSTART:20260423T150000
DTEND:20260423T160000
SUMMARY:Histoire contée
DESCRIPTION:Plus d'infos : https://www.agendaduperche.fr/events/2026-04-23-histoire-contee\n\nUne séance de contes pour s'évader et rêver le temps d'une histoire.\nInfos pratiques :\n* Sur inscription auprès de votre libraire.
LOCATION:6 Rue du 17 Juin 1944, 28240 La Loupe, France
ORGANIZER:Librairie-café Le Mille-feuille
URL:https://www.instagram.com/p/DXMmc9qjCcG/
X-PRICE:Gratuit
CATEGORIES:theatre
END:VEVENT
END:VCALENDAR