BEGIN:VCALENDAR
VERSION:2.0
PRODID:-//Agenda du Perche//Agenda du Perche//FR
CALSCALE:GREGORIAN
METHOD:PUBLISH
X-WR-CALNAME:Agenda du Perche
X-WR-DESC:Événements du territoire du Perche
X-WR-TIMEZONE:Europe/Paris
BEGIN:VEVENT
UID:1420@agendaperche
DTSTAMP:20260419T141619
DTSTART:20260422T100000
DTEND:20260422T120000
SUMMARY:Atelier poterie
DESCRIPTION:Plus d'infos : https://www.agendaduperche.fr/events/2026-04-22-atelier-poterie\n\nVenez vous initier ou vous perfectionner en poterie, en réalisant une création personnelle !\nÉvénement complet.\nInfos & réservations :\n07 85 71 28 34
LOCATION:28160 Frazé, France
ORGANIZER:Tiers-lieu La Passerelle
URL:https://www.instagram.com/p/DXJPkNpDNVn/
X-PRICE:Inconnu
CATEGORIES:atelier
END:VEVENT
END:VCALENDAR