BEGIN:VCALENDAR
VERSION:2.0
PRODID:-//Agenda du Perche//Agenda du Perche//FR
CALSCALE:GREGORIAN
METHOD:PUBLISH
X-WR-CALNAME:Agenda du Perche
X-WR-DESC:Événements du territoire du Perche
X-WR-TIMEZONE:Europe/Paris
BEGIN:VEVENT
UID:1415@agendaperche
DTSTAMP:20260419T141553
DTSTART:20260421T160000
DTEND:20260421T164500
SUMMARY:Lecture aux enfants de 3 à 6 ans
DESCRIPTION:Plus d'infos : https://www.agendaduperche.fr/events/2026-04-21-lecture-aux-3-6-ans\n\nUne séance de lecture à voix haute spécialement conçue pour les enfants de 3 à 6 ans, animée par Louise & Marie.\nInfos & réservations :\nGratuit, sur inscription auprès de votre libraire.
LOCATION:6 Rue du 17 Juin 1944, 28240 La Loupe, France
ORGANIZER:Librairie-café Le Mille-feuille
URL:https://www.instagram.com/p/DXRMk1mDZwf/
X-PRICE:Gratuit
CATEGORIES:conference
END:VEVENT
END:VCALENDAR