BEGIN:VCALENDAR
VERSION:2.0
PRODID:-//Agenda du Perche//Agenda du Perche//FR
CALSCALE:GREGORIAN
METHOD:PUBLISH
X-WR-CALNAME:Agenda du Perche
X-WR-DESC:Événements du territoire du Perche
X-WR-TIMEZONE:Europe/Paris
BEGIN:VEVENT
UID:1370@agendaperche
DTSTAMP:20260423T121403
DTSTART:20260418T203000
DTEND:20260418T223000
SUMMARY:Monsieur Choufleuri restera chez lui le...
DESCRIPTION:Plus d'infos : https://www.agendaduperche.fr/events/2026-04-18-monsieur-choufleuri-restera-chez-lui-le\n\nConcert de présentation par Pierre Ledru de l'opéra bouffe de Jacques Offenbach, interprété par les Choeurs en Campagne.\nTarifs :\n* Adultes : 10€\n* Gratuit pour les moins de 18 ans, les étudiants et les personnes en recherche d'emploi ou en insertion.\nInfos & réservations :\n* https://www.operaencampagne.com/
LOCATION:10 Rue du 19 Mars 1962, 28160 Frazé, France
ORGANIZER:Opera en Campagne
URL:https://www.operaencampagne.com
X-PRICE:10€
CATEGORIES:concert
END:VEVENT
END:VCALENDAR