BEGIN:VCALENDAR
VERSION:2.0
PRODID:-//Agenda du Perche//Agenda du Perche//FR
CALSCALE:GREGORIAN
METHOD:PUBLISH
X-WR-CALNAME:Agenda du Perche
X-WR-DESC:Événements du territoire du Perche
X-WR-TIMEZONE:Europe/Paris
BEGIN:VEVENT
UID:1335@agendaperche
DTSTAMP:20260423T121311
DTSTART:20260418T123000
DTEND:20260418T143000
SUMMARY:Échange autour de Cucina Kitch et dégustation italienne
DESCRIPTION:Plus d'infos : https://www.agendaduperche.fr/events/2026-04-18-echange-autour-de-cucina-kitch-et-degustation-italienne\n\nDégustation de produits italiens collectés par Alessandra Pierini, suivie d'une interview de l'autrice dirigée par Marie Lorin. L'événement se déroulera dans un décor 'cucina 60's et kitch' créé pour l'occasion par Martine Camillieri.
LOCATION:8 Pl. du Général de Gaulle, 61110 Rémalard en Perche, France
ORGANIZER:Librairie Un autre pays
URL:https://www.instagram.com/p/DXPp-UYCL8u/
X-PRICE:Gratuit
CATEGORIES:gastronomie
END:VEVENT
END:VCALENDAR