BEGIN:VCALENDAR
VERSION:2.0
PRODID:-//Agenda du Perche//Agenda du Perche//FR
CALSCALE:GREGORIAN
METHOD:PUBLISH
X-WR-CALNAME:Agenda du Perche
X-WR-DESC:Événements du territoire du Perche
X-WR-TIMEZONE:Europe/Paris
BEGIN:VEVENT
UID:1410@agendaperche
DTSTAMP:20260419T155032
DTSTART:20260417T183000
DTEND:20260417T213000
SUMMARY:Afro House DJ Set
DESCRIPTION:Plus d'infos : https://www.agendaduperche.fr/events/2026-04-17-afro-house-dj-set\n\nVenez lancer votre week-end avec des ondes positives et un voyage musical au cœur de l'Afro House.\nAu programme :\n* DJ set Afro House pour une ambiance solaire\n* Cocktails et sélection de boissons\n* Ambiance chill et festive jusqu'au bout de la soirée
LOCATION:17 Rue Paul Eluard, 28400 Margon, France
ORGANIZER:V and B Margon
URL:https://www.instagram.com/p/DXFAjvkClFI/
X-PRICE:Inconnu
CATEGORIES:concert
END:VEVENT
END:VCALENDAR