BEGIN:VCALENDAR
VERSION:2.0
PRODID:-//Agenda du Perche//Agenda du Perche//FR
CALSCALE:GREGORIAN
METHOD:PUBLISH
X-WR-CALNAME:Agenda du Perche
X-WR-DESC:Événements du territoire du Perche
X-WR-TIMEZONE:Europe/Paris
BEGIN:VEVENT
UID:1387@agendaperche
DTSTAMP:20260419T155145
DTSTART:20260414T190000
DTEND:20260414T203000
SUMMARY:Cours de percussions d'Afrique de l'Ouest
DESCRIPTION:Plus d'infos : https://www.agendaduperche.fr/events/2026-04-14-cours-de-percussions-d-afrique-de-l-ouest\n\nCours de percussions traditionnelles avec Julien Raynal et l'Association les Mains Verdies.\nNote : Les cours ont lieu toutes les deux semaines.
LOCATION:1 Les Fossés à la Vache 1, 61400 La Chapelle-Montligeon, France
ORGANIZER:Association Les Mains Verdies
URL:https://lesmainsverdies.com/
X-PRICE:Inconnu
CATEGORIES:concert
END:VEVENT
END:VCALENDAR