BEGIN:VCALENDAR
VERSION:2.0
PRODID:-//Agenda du Perche//Agenda du Perche//FR
CALSCALE:GREGORIAN
METHOD:PUBLISH
X-WR-CALNAME:Agenda du Perche
X-WR-DESC:Événements du territoire du Perche
X-WR-TIMEZONE:Europe/Paris
BEGIN:VEVENT
UID:1353@agendaperche
DTSTAMP:20260419T155313
DTSTART:20260410T140000
DTEND:20260412T150000
SUMMARY:TradOrne Festival #4
DESCRIPTION:Plus d'infos : https://www.agendaduperche.fr/events/2026-04-10-tradorne-festival-4\n\nLe festival TradOrne revient pour sa 4ème édition dédiée aux musiques et danses traditionnelles du Perche et d'ailleurs.\nVendredi 10 avril\n* 14h - 15h30 : 3èmes Rencontres inter écoles (réservé aux scolaires). Salle Condé Confluence.\n* 19h30 - 20h30 : 2ème concours de danse autour des danses de cortège. Entrée libre. Inscription : contact@tradorne.net.\n* 21h : Grand Bal avec Perchémaine (Jean-François Leroux et Julien Riolet), Tradart, et Planchée (Emmanuelle Bouthillier, Dylan James, Yannick Laridon). Salle Condé Confluence. Tarif : 10€.\n* Restauration rapide et buvette dès 19h30.\nSamedi 11 avril\n* 10h - 17h : Ateliers Musique et Danse (sur inscription : daniel-denecheau@wanadoo.fr).\n * Accordéon diatonique avec Daniel Denécheau (Moyens et confirmés).\n * Violon traditionnel avec Jean-François Leroux (Débutants le matin, confirmés l'après-midi).\n * Danse avec Julien Dupré (Matin).\n * Danses du Limousin avec Pascale Nguyen (Après-midi).\n* 11h - 13h : Animation sur la place du marché avec Faut Pas Mollir et P'tit Louis Laplanche.\n* 17h - 20h : Scène Ouverte (Espace extérieur Salle Condé Confluence). Entrée gratuite.\n* 21h : Grand Bal avec Roule et Ferme Derrière (musiques du Limousin) et Bargainatt. Salle Condé Confluence. Tarif : 10€.\n* Food Trucks et buvette dès 17h.\nDimanche 12 avril\n* 11h : Apéro musical et grillade. Moment partagé avec kir ou jus de fruit offert. Apportez vos victuailles et couverts pour le barbecue géant ! Entrée gratuite pour les festivaliers.\nInfos pratiques :\n* Hébergement : Camping temporaire gratuit et autogéré à côté de la salle (réservation obligatoire : contact@tradorne.net). Camping-cars autorisés sur le parking.\n* Tarifs ateliers : Instrument (30€-50€), Danse (25€).\n* Tarifs bals : 10€ (Gratuit jusqu'à 10 ans, 5€ pour les 11-17 ans).
LOCATION:578 La Ballastiere, 61110 Sablons sur Huisne, France
ORGANIZER:TradOrne
URL:http://www.tradorne.net
X-PRICE:Gratuit à 50€
CATEGORIES:festival
END:VEVENT
END:VCALENDAR