BEGIN:VCALENDAR
VERSION:2.0
PRODID:-//Agenda du Perche//Agenda du Perche//FR
CALSCALE:GREGORIAN
METHOD:PUBLISH
X-WR-CALNAME:Agenda du Perche
X-WR-DESC:Événements du territoire du Perche
X-WR-TIMEZONE:Europe/Paris
BEGIN:VEVENT
UID:1355@agendaperche
DTSTAMP:20260419T155204
DTSTART:20260410T183000
DTEND:20260410T203000
SUMMARY:Jeux d'écriture en musique
DESCRIPTION:Plus d'infos : https://www.agendaduperche.fr/events/2026-04-10-jeux-d-ecriture-en-musique\n\nLaissez la musique vous inspirer lors de cet atelier créatif.\nUn moment de partage et d'écriture proposé au tiers-lieu Le Passage, où les notes guident votre plume.
LOCATION:2 Rue de l'Église, 61110 Rémalard en Perche, France
ORGANIZER:Le Passage
URL:https://www.instagram.com/p/DW8SSH6CBKj/
X-PRICE:Inconnu
CATEGORIES:atelier
END:VEVENT
END:VCALENDAR