BEGIN:VCALENDAR
VERSION:2.0
PRODID:-//Agenda du Perche//Agenda du Perche//FR
CALSCALE:GREGORIAN
METHOD:PUBLISH
X-WR-CALNAME:Agenda du Perche
X-WR-DESC:Événements du territoire du Perche
X-WR-TIMEZONE:Europe/Paris
BEGIN:VEVENT
UID:1333@agendaperche
DTSTAMP:20260419T155144
DTSTART:20260408T093000
DTEND:20260425T180000
SUMMARY:Loterie de Pâques
DESCRIPTION:Plus d'infos : https://www.agendaduperche.fr/events/2026-04-08-loterie-de-paques\n\nÀ l’occasion de Pâques et des vacances scolaires, l’Office de Tourisme du Perche Emeraude invite les enfants à participer à un jeu de piste ludique au sein de ses locaux.\nLe défi :\nLes participants doivent retrouver le nombre exact de lapins de Pâques cachés dans l’Office de Tourisme. Des lots sont à gagner pour les plus observateurs !\nInfos & réservations :\n* Public : enfants de 4 à 10 ans\n* Tirage au sort : le 28 avril parmi les bonnes réponses\n* Partenaires : Écomusée du Perche, Centre Aquatique Vénizi'O, Boulangerie Aux Délices Fertois.
LOCATION:15 Pl. de Lice, 72400 La Ferté-Bernard, France
ORGANIZER:Office de Tourisme du Perche Émeraude
URL:https://www.instagram.com/p/DWyhrPokrOu/
X-PRICE:Gratuit
CATEGORIES:atelier
END:VEVENT
END:VCALENDAR