BEGIN:VCALENDAR
VERSION:2.0
PRODID:-//Agenda du Perche//Agenda du Perche//FR
CALSCALE:GREGORIAN
METHOD:PUBLISH
X-WR-CALNAME:Agenda du Perche
X-WR-DESC:Événements du territoire du Perche
X-WR-TIMEZONE:Europe/Paris
BEGIN:VEVENT
UID:1330@agendaperche
DTSTAMP:20260419T154944
DTSTART:20260406T080000
DTEND:20260426T235900
SUMMARY:Jeu de Pâques
DESCRIPTION:Plus d'infos : https://www.agendaduperche.fr/events/2026-04-06-jeu-de-paques\n\nL’Office de Tourisme du Perche Émeraude vous propose un jeu spécial Pâques et vacances scolaires sur ses réseaux sociaux.\nLe principe :\nChaque lundi, une photo du patrimoine local est publiée. Votre mission est de retrouver les œufs de Pâques qui y sont cachés et d'envoyer votre réponse en message privé en précisant :\n* Le nombre exact d’œufs\n* La couleur de chacun\nÀ gagner :\nDes lots touristiques offerts par les partenaires locaux (Le Bacchus, Écomusée de la Sarthe, Domaine de Pescheray, Le Repaire du Lac...). Le tirage au sort aura lieu le 28 avril parmi les bonnes réponses.\nInfos & réservations :\nParticipation directe via message privé sur le compte Instagram @tourismelafertebernard.
LOCATION:15 Pl. de Lice, 72400 La Ferté-Bernard, France
ORGANIZER:Office de Tourisme du Perche Émeraude
URL:https://www.instagram.com/p/DWyGIhZDXMd/
X-PRICE:Gratuit
CATEGORIES:atelier
END:VEVENT
END:VCALENDAR