BEGIN:VCALENDAR
VERSION:2.0
PRODID:-//Agenda du Perche//Agenda du Perche//FR
CALSCALE:GREGORIAN
METHOD:PUBLISH
X-WR-CALNAME:Agenda du Perche
X-WR-DESC:Événements du territoire du Perche
X-WR-TIMEZONE:Europe/Paris
BEGIN:VEVENT
UID:1227@agendaperche
DTSTAMP:20260419T154923
DTSTART:20260403T090000
DTEND:20260403T110000
SUMMARY:P.O.V.
DESCRIPTION:Plus d'infos : https://www.agendaduperche.fr/events/2026-04-03-p-o-v\n\nProjection du court métrage "P.O.V." suivie d'un débat animé par des animateurs.rices impliqué.es. Séance ouverte aux collégien.nes et à tout public.\nInfos & réservations :\nimpliqué.es
LOCATION:Pl. du Champ de Foire, 61110 Rémalard en Perche, France
ORGANIZER:impliqué.es
X-PRICE:Inconnu
CATEGORIES:cinema
END:VEVENT
END:VCALENDAR