BEGIN:VCALENDAR
VERSION:2.0
PRODID:-//Agenda du Perche//Agenda du Perche//FR
CALSCALE:GREGORIAN
METHOD:PUBLISH
X-WR-CALNAME:Agenda du Perche
X-WR-DESC:Événements du territoire du Perche
X-WR-TIMEZONE:Europe/Paris
BEGIN:VEVENT
UID:1228@agendaperche
DTSTAMP:20260419T154852
DTSTART:20260403T160000
DTEND:20260403T190000
SUMMARY:Marché solidaire
DESCRIPTION:Plus d'infos : https://www.agendaduperche.fr/events/2026-04-03-marche-solidaire\n\nMarché solidaire organisé aux Halles de Bretoncelles.
LOCATION:61110 Bretoncelles, France
ORGANIZER:Inconnu
X-PRICE:Gratuit
CATEGORIES:marche
END:VEVENT
END:VCALENDAR