BEGIN:VCALENDAR
VERSION:2.0
PRODID:-//Agenda du Perche//Agenda du Perche//FR
CALSCALE:GREGORIAN
METHOD:PUBLISH
X-WR-CALNAME:Agenda du Perche
X-WR-DESC:Événements du territoire du Perche
X-WR-TIMEZONE:Europe/Paris
BEGIN:VEVENT
UID:1243@agendaperche
DTSTAMP:20260419T155057
DTSTART:20260403T160000
DTEND:20260403T180000
SUMMARY:La Guinguette du Perche
DESCRIPTION:Plus d'infos : https://www.agendaduperche.fr/events/2026-04-03-la-guinguette-du-perche\n\nÀ partir du mois d'avril, la Brasserie du Perche lance sa saison régulière. Tous les week-ends, venez profiter d'une ambiance guinguette au bord de l'étang avec musique, brasero et dégustation de bières artisanales.\nHoraires hebdomadaires :\n* Vendredi : 16h – 23h\n* Samedi : 12h – 23h\n* Dimanche : 12h – 19h\nOuverture exceptionnelle :\n* Lundi de Pâques (6 avril) : 12h – 19h
LOCATION:moulin de Brotz, Chateau de Miserai, 61290 L'Hôme-Chamondot, France
ORGANIZER:Brasserie du Perche
URL:https://www.instagram.com/p/DWbOjOVCnMr/
X-PRICE:Gratuit
CATEGORIES:festival
END:VEVENT
END:VCALENDAR