BEGIN:VCALENDAR
VERSION:2.0
PRODID:-//Agenda du Perche//Agenda du Perche//FR
CALSCALE:GREGORIAN
METHOD:PUBLISH
X-WR-CALNAME:Agenda du Perche
X-WR-DESC:Événements du territoire du Perche
X-WR-TIMEZONE:Europe/Paris
BEGIN:VEVENT
UID:1257@agendaperche
DTSTAMP:20260419T155328
DTSTART:20260402T180000
DTEND:20260402T203000
SUMMARY:Réunion d'information bénévoles - La Déferlante Percheronne
DESCRIPTION:Plus d'infos : https://www.agendaduperche.fr/events/2026-04-02-reunion-d-information-benevoles-la-deferlante-percheronne\n\nLa grande aventure approche ! Rejoignez l'équipe de la Déferlante Percheronne pour une réunion d'information sur les coulisses de l'édition 2026. C’est un moment important pour bien comprendre votre mission et commencer à créer l’esprit d’équipe qui fera la réussite de cette course à obstacles.\nProgramme de la soirée :\n* 18h – 18h30 : enregistrement (présence obligatoire)\n* 18h30 – 19h30 : présentation du projet et des rôles de chacun\n* 19h30 – 20h30 : moment convivial, échanges et questions
LOCATION:Margon, 28400 Arcisses, France
ORGANIZER:Déferlante Percheronne
URL:https://www.instagram.com/p/DWhXp5ciOBA/
X-PRICE:Gratuit
CATEGORIES:conference
END:VEVENT
END:VCALENDAR