BEGIN:VCALENDAR
VERSION:2.0
PRODID:-//Agenda du Perche//Agenda du Perche//FR
CALSCALE:GREGORIAN
METHOD:PUBLISH
X-WR-CALNAME:Agenda du Perche
X-WR-DESC:Événements du territoire du Perche
X-WR-TIMEZONE:Europe/Paris
BEGIN:VEVENT
UID:1301@agendaperche
DTSTAMP:20260419T203725
DTSTART:20260402T180000
DTEND:20260402T230000
SUMMARY:Réouverture de la Guinguette L'Herminette
DESCRIPTION:Plus d'infos : https://www.agendaduperche.fr/events/2026-04-02-reouverture-de-la-guinguette-l-herminette-souance-au-perche\n\nLa Guinguette L'Herminette vous donne rendez-vous pour le lancement de sa saison au bord du plan d'eau de Souancé-au-Perche. Venez profiter d'un moment convivial pour fêter le retour du printemps et la réouverture de ce lieu emblématique.\nInfos pratiques :\n* Horaires : à partir de 18h\n* La guinguette est ensuite ouverte du mercredi au dimanche.
LOCATION:28400 Souancé-au-Perche, France
ORGANIZER:Guinguette L'Herminette
URL:https://www.instagram.com/p/DWjlCVfjekw/
X-PRICE:Gratuit
CATEGORIES:festival
END:VEVENT
END:VCALENDAR