BEGIN:VCALENDAR
VERSION:2.0
PRODID:-//Agenda du Perche//Agenda du Perche//FR
CALSCALE:GREGORIAN
METHOD:PUBLISH
X-WR-CALNAME:Agenda du Perche
X-WR-DESC:Événements du territoire du Perche
X-WR-TIMEZONE:Europe/Paris
BEGIN:VEVENT
UID:1272@agendaperche
DTSTAMP:20260419T154812
DTSTART:20260402T180000
DTEND:20260402T200000
SUMMARY:Pilates
DESCRIPTION:Plus d'infos : https://www.agendaduperche.fr/events/2026-04-02-pilates\n\nCours de Pilates pour tous les niveaux, animé par La Team Coaching Sportif. Travaillez votre posture, votre souplesse et votre renforcement musculaire en douceur.\nHoraires :\nSéances à 18h00 ou 19h00.\nInfos & réservations :\n06 81 75 57 51
LOCATION:28160 Frazé, France
ORGANIZER:La Team Coaching Sportif
URL:https://www.instagram.com/p/DWlK20hjOz1/
X-PRICE:5€
CATEGORIES:sport
END:VEVENT
END:VCALENDAR