BEGIN:VCALENDAR
VERSION:2.0
PRODID:-//Agenda du Perche//Agenda du Perche//FR
CALSCALE:GREGORIAN
METHOD:PUBLISH
X-WR-CALNAME:Agenda du Perche
X-WR-DESC:Événements du territoire du Perche
X-WR-TIMEZONE:Europe/Paris
BEGIN:VEVENT
UID:1270@agendaperche
DTSTAMP:20260419T155031
DTSTART:20260402T090000
DTEND:20260402T110000
SUMMARY:Ateliers numériques
DESCRIPTION:Plus d'infos : https://www.agendaduperche.fr/events/2026-04-02-ateliers-numeriques\n\nBesoin d'aide avec vos outils numériques ? Rejoignez nos ateliers pour apprendre et échanger sur l'informatique, internet et les smartphones.\nInfos & réservations :\n07 85 71 28 34
LOCATION:28160 Frazé, France
ORGANIZER:Tiers-lieu La Passerelle
X-PRICE:Inconnu
CATEGORIES:atelier
END:VEVENT
END:VCALENDAR