BEGIN:VCALENDAR
VERSION:2.0
PRODID:-//Agenda du Perche//Agenda du Perche//FR
CALSCALE:GREGORIAN
METHOD:PUBLISH
X-WR-CALNAME:Agenda du Perche
X-WR-DESC:Événements du territoire du Perche
X-WR-TIMEZONE:Europe/Paris
BEGIN:VEVENT
UID:1309@agendaperche
DTSTAMP:20260419T155328
DTSTART:20260402T120000
DTEND:20260402T143000
SUMMARY:Accueil de l'équipe du Village Préféré des Français
DESCRIPTION:Plus d'infos : https://www.agendaduperche.fr/events/2026-04-02-accueil-de-l-equipe-du-village-prefere-des-francais\n\nÀ l'occasion de la venue de l'équipe de repérage de l'émission « Le Village Préféré des Français », le bar à vin Aux Lapins Bleus vous accueille pour un déjeuner convivial.\nAu menu :\n* Osso buco\n* Poulet braisé\n* Schorle pomme-gingembre\n* Panna cotta rhubarbe\nVenez partager ce moment alors que le village se prépare pour le concours !
LOCATION:16 Rue de Laborde, 28340 La Ferté-Vidame, France
ORGANIZER:Aux Lapins Bleus
URL:https://www.instagram.com/p/DWmnd_bDgX7/
X-PRICE:Inconnu
CATEGORIES:gastronomie
END:VEVENT
END:VCALENDAR