BEGIN:VCALENDAR
VERSION:2.0
PRODID:-//Agenda du Perche//Agenda du Perche//FR
CALSCALE:GREGORIAN
METHOD:PUBLISH
X-WR-CALNAME:Agenda du Perche
X-WR-DESC:Événements du territoire du Perche
X-WR-TIMEZONE:Europe/Paris
BEGIN:VEVENT
UID:1220@agendaperche
DTSTAMP:20260419T155056
DTSTART:20260401T200000
DTEND:20260401T220000
SUMMARY:ZFO Collectif
DESCRIPTION:Plus d'infos : https://www.agendaduperche.fr/events/2026-04-01-zfo-collectif\n\nLe ZFO Collectif réunit 6 musicien.nes qui composent leur propre répertoire de chansons festives et poétiques. Cela donne une musique organique, aux sonorités éclectiques, voyageuses et acoustiques. Dans un univers tantôt mystérieux, tantôt absurde et explosif, le ZFO Collectif invite à retrouver des parcelles de lutte et d'espoir dans le collectif, la danse, la rêverie.\nInfos & réservations :\nhautesplanches@riseup.net
LOCATION:Haute Planche, 61110 Bretoncelles, France
ORGANIZER:Association des Hautes Planches
X-PRICE:Inconnu
CATEGORIES:concert
END:VEVENT
END:VCALENDAR