BEGIN:VCALENDAR
VERSION:2.0
PRODID:-//Agenda du Perche//Agenda du Perche//FR
CALSCALE:GREGORIAN
METHOD:PUBLISH
X-WR-CALNAME:Agenda du Perche
X-WR-DESC:Événements du territoire du Perche
X-WR-TIMEZONE:Europe/Paris
BEGIN:VEVENT
UID:1276@agendaperche
DTSTAMP:20260419T155030
DTSTART:20260401T150000
DTEND:20260401T170000
SUMMARY:English Sessions
DESCRIPTION:Plus d'infos : https://www.agendaduperche.fr/events/2026-04-01-english-sessions\n\nSessions de conversation en anglais en groupe, pour tous les niveaux, enfants et adultes. Une ambiance conviviale pour pratiquer la langue de Shakespeare.\nInfos & réservations :\n06 36 49 95 89
LOCATION:28160 Frazé, France
ORGANIZER:Tiers-lieu La Passerelle
X-PRICE:Inconnu
CATEGORIES:atelier
END:VEVENT
END:VCALENDAR