BEGIN:VCALENDAR
VERSION:2.0
PRODID:-//Agenda du Perche//Agenda du Perche//FR
CALSCALE:GREGORIAN
METHOD:PUBLISH
X-WR-CALNAME:Agenda du Perche
X-WR-DESC:Événements du territoire du Perche
X-WR-TIMEZONE:Europe/Paris
BEGIN:VEVENT
UID:1192@agendaperche
DTSTAMP:20260419T155312
DTSTART:20260401T150000
DTEND:20260401T190000
SUMMARY:Chasse aux œufs en famille
DESCRIPTION:Plus d'infos : https://www.agendaduperche.fr/events/2026-04-01-chasse-aux-oeufs-en-famille\n\nL'association Graines d'Idées du Perche organise une grande après-midi récréative pour fêter Pâques.\nProgramme détaillé :\n* À partir de 15h : Pour les grands (7 ans et +). Chasse aux œufs, rébus, jeu d'orientation, ateliers créatifs et parcours. (Tarif : 8€ par famille)\n* 16h30 : Goûter offert pour les grands et les petits.\n* À partir de 17h30 : Pour les petits (2 à 6 ans). Chasse aux œufs, parcours et ateliers créatifs. (Tarif : 5€ par famille)\nInfos pratiques :\n* Sur inscription jusqu’au 30 mars au 07 67 79 13 98.\n* Possibilité d'apporter des gâteaux et/ou des boissons à partager.
LOCATION:61110 Moutiers-au-Perche, France
ORGANIZER:Graines d'Idées du Perche
X-PRICE:5€
CATEGORIES:atelier
END:VEVENT
END:VCALENDAR