BEGIN:VCALENDAR
VERSION:2.0
PRODID:-//Agenda du Perche//Agenda du Perche//FR
CALSCALE:GREGORIAN
METHOD:PUBLISH
X-WR-CALNAME:Agenda du Perche
X-WR-DESC:Événements du territoire du Perche
X-WR-TIMEZONE:Europe/Paris
BEGIN:VEVENT
UID:1142@agendaperche
DTSTAMP:20260419T173003
DTSTART:20261126T140000
DTEND:20261126T173000
SUMMARY:2 tonnes : construisez votre transition énergétique !
DESCRIPTION:Plus d'infos : https://www.agendaduperche.fr/events/2-tonnes-construisez-votre-transition-energetique-atelier-1624993a-9687-45e1-b6df-778529bee30b\n\nAtelier animé par Pierre Japhet.\nCette animation vous projette dans le futur jusqu'en 2050 : par vos choix individuels et collectifs, vous construisez progressivement votre transition énergétique vers une France neutre en carbone, afin de préserver le climat. Découvrez de manière ludique et participative toutes les actions possibles et leur impact concret, grâce à une simulation qui s'appuie sur des données scientifiques issues d'organismes reconnus. À vous de jouer !\nInformations pratiques :\n* Participation libre sous forme de don à l'association « 2 tonnes »\n* Réservation obligatoire jusqu'au mardi 24 novembre 12h30 au 06 98 81 99 73 ou par email à contact.2tonnes@free.fr.
LOCATION:Maison du Parc, Courboyer, 61340 Perche en Nocé, France
ORGANIZER:Parc naturel régional du Perche
X-PRICE:Gratuit
CATEGORIES:atelier
END:VEVENT
END:VCALENDAR